BEGIN:VCALENDAR
VERSION:2.0
PRODID:-//Pillerton Hersey Parish Council//Meeting Calendar//EN
CALSCALE:GREGORIAN
METHOD:PUBLISH
BEGIN:VEVENT
UID:70476-20230112@pillertonherseyparishcouncil.gov.uk
DTSTAMP:20260421T084114Z
DTSTART;VALUE=DATE:20230112
DTEND;VALUE=DATE:20230113
SUMMARY:Council Meetings – 2023
DESCRIPTION:Full Council Meeting\nView details: https://pillertonherseyparishcouncil.gov.uk/meetings/council-meetings-2023/
URL:https://pillertonherseyparishcouncil.gov.uk/meetings/council-meetings-2023/
END:VEVENT
END:VCALENDAR
